Workbook
Name \0: '[1]PNT-QUOT-#3'!#REF!
Name \d: '[2]??-BLDG'!#REF!
Name \e: '[2]??-BLDG'!#REF!
Name \f: '[2]??-BLDG'!#REF!
Name \g: '[2]??-BLDG'!#REF!
Name \h: '[2]??-BLDG'!#REF!
Name \i: '[2]??-BLDG'!#REF!
Name \j: '[2]??-BLDG'!#REF!
Name \k: '[2]??-BLDG'!#REF!
Name \l: '[2]??-BLDG'!#REF!
Name \m: '[2]??-BLDG'!#REF!
Name \n: '[2]??-BLDG'!#REF!
Name \o: '[2]??-BLDG'!#REF!
Name \z: '[1]COAT&WRAP-QIOT-#3'!#REF!
Name _1: #N/A
Name _1000A01: #N/A
Name _2: #N/A
Name _A65700: '[3]MTO REV.2(ARMOR)'!#REF!
Name _A65800: '[3]MTO REV.2(ARMOR)'!#REF!
Name _A66000: '[3]MTO REV.2(ARMOR)'!#REF!
Name _A67000: '[3]MTO REV.2(ARMOR)'!#REF!
Name _A68000: '[3]MTO REV.2(ARMOR)'!#REF!
Name _A70000: '[3]MTO REV.2(ARMOR)'!#REF!
Name _A75000: '[3]MTO REV.2(ARMOR)'!#REF!
Name _A85000: '[3]MTO REV.2(ARMOR)'!#REF!
Name _CON1: #REF!
Name _CON2: #REF!
Name _NET2: #REF!
Name A: '[1]PNT-QUOT-#3'!#REF!
Name A01_: #N/A
Name A01AC: #N/A
Name A01CAT: #N/A
Name A01CODE: #N/A
Name A01DATA: #N/A
Name A01MI: #N/A
Name A01TO: #N/A
Name AA: #REF!
Name AAA: '[4]MTL$-INTER'!#REF!
Name All_Item: #REF!
Name ALPIN: #N/A
Name ALPJYOU: #N/A
Name ALPTOI: #N/A
Name B: '[1]PNT-QUOT-#3'!#REF!
Name BB: #REF!
Name BOQ: #REF!
Name BVCISUMMARY: #REF!
Name CABLE2: '[5]MTO REV.0'!$A$1:$Q$570
Name Category_All: #REF!
Name CATIN: #N/A
Name CATJYOU: #N/A
Name CATREC: #N/A
Name CATSYU: #N/A
Name COAT: '[1]PNT-QUOT-#3'!#REF!
Name COMMON: #REF!
Name CON_EQP_COS: #REF!
Name CON_EQP_COST: #REF!
Name CONST_EQ: #REF!
Name COVER: #REF!
Name CRITINST: #REF!
Name CRITPURC: #REF!

Sheet 00000000

Sheet HK 1
K1: MẪU 3
A2: ỦY BAN NHÂN DÂN TP.HCM | G2: CỘNG HÒA XÃ HỘI CHỦ NGHĨA VIỆT NAM
A3: TRƯỜNG CĐ KỸ THUẬT LÝ TỰ TRỌNG | G3: Độc lập – Tự do – Hạnh phúc
A4: *********************************
A5: BẢNG TỔNG KẾT ĐÁNH GIÁ KẾT QUẢ RÈN LUYỆN
A6: Học kỳ: 1 . Năm học: 2014 - 2015
A7: Lớp: 12CĐ - CK3 Sĩ số: 42 Khoa: Công nghệ Cơ khí
A9: TT | B9: HỌ VÀ TÊN | D9: GVCN | F9: QUẢN LÝ HSSV | H9: GHI CHÚ
D10: ĐiỂM RL | E10: XẾP LOẠI | F10: ĐiỂM RL | G10: XẾP LOẠI
A11: 1 | B11: Phạm Long | C11: An | D11: 74 | E11: =IF(D11<29,"Kém",IF(D11<50,"Yếu",IF(D11<60,"TB",IF(D11<70, "TB khá",IF(D11<80,"Khá",IF(D11<90,"Tốt","Xuất sắc")))))) -> Khá | F11: 46 | G11: =IF(F11<29,"Kém",IF(F11<50,"Yếu",IF(F11<60,"TB",IF(F11<70, "TB khá",IF(F11<80,"Khá",IF(F11<90,"Tốt","Xuất sắc")))))) -> Yếu
A12: 2 | B12: Lê Tuấn | C12: Anh | E12: =IF(D12<29,"Kém",IF(D12<50,"Yếu",IF(D12<60,"TB",IF(D12<70, "TB khá",IF(D12<80,"Khá",IF(D12<90,"Tốt","Xuất sắc")))))) -> Kém | F12: 36 | G12: =IF(F12<29,"Kém",IF(F12<50,"Yếu",IF(F12<60,"TB",IF(F12<70, "TB khá",IF(F12<80,"Khá",IF(F12<90,"Tốt","Xuất sắc")))))) -> Yếu
A13: 3 | B13: Trần Văn | C13: Bảo | D13: 67 | E13: =IF(D13<29,"Kém",IF(D13<50,"Yếu",IF(D13<60,"TB",IF(D13<70, "TB khá",IF(D13<80,"Khá",IF(D13<90,"Tốt","Xuất sắc")))))) -> TB khá | F13: 63 | G13: =IF(F13<29,"Kém",IF(F13<50,"Yếu",IF(F13<60,"TB",IF(F13<70, "TB khá",IF(F13<80,"Khá",IF(F13<90,"Tốt","Xuất sắc")))))) -> TB khá
A14: 4 | B14: Vũ Cao | C14: Bền | D14: 61 | E14: =IF(D14<29,"Kém",IF(D14<50,"Yếu",IF(D14<60,"TB",IF(D14<70, "TB khá",IF(D14<80,"Khá",IF(D14<90,"Tốt","Xuất sắc")))))) -> TB khá | F14: 73 | G14: =IF(F14<29,"Kém",IF(F14<50,"Yếu",IF(F14<60,"TB",IF(F14<70, "TB khá",IF(F14<80,"Khá",IF(F14<90,"Tốt","Xuất sắc")))))) -> Khá
A15: 5 | B15: Bùi Văn | C15: Dân | D15: 70 | E15: =IF(D15<29,"Kém",IF(D15<50,"Yếu",IF(D15<60,"TB",IF(D15<70, "TB khá",IF(D15<80,"Khá",IF(D15<90,"Tốt","Xuất sắc")))))) -> Khá | F15: 31 | G15: =IF(F15<29,"Kém",IF(F15<50,"Yếu",IF(F15<60,"TB",IF(F15<70, "TB khá",IF(F15<80,"Khá",IF(F15<90,"Tốt","Xuất sắc")))))) -> Yếu
A16: 6 | B16: Nguyễn Hoàng | C16: Dinh | D16: 61 | E16: =IF(D16<29,"Kém",IF(D16<50,"Yếu",IF(D16<60,"TB",IF(D16<70, "TB khá",IF(D16<80,"Khá",IF(D16<90,"Tốt","Xuất sắc")))))) -> TB khá | F16: 66 | G16: =IF(F16<29,"Kém",IF(F16<50,"Yếu",IF(F16<60,"TB",IF(F16<70, "TB khá",IF(F16<80,"Khá",IF(F16<90,"Tốt","Xuất sắc")))))) -> TB khá
A17: 7 | B17: Nguyễn Văn | C17: Duy | D17: 70 | E17: =IF(D17<29,"Kém",IF(D17<50,"Yếu",IF(D17<60,"TB",IF(D17<70, "TB khá",IF(D17<80,"Khá",IF(D17<90,"Tốt","Xuất sắc")))))) -> Khá | F17: 60 | G17: =IF(F17<29,"Kém",IF(F17<50,"Yếu",IF(F17<60,"TB",IF(F17<70, "TB khá",IF(F17<80,"Khá",IF(F17<90,"Tốt","Xuất sắc")))))) -> TB khá
A18: 8 | B18: Bùi Châu Duy | C18: Đằng | D18: 64 | E18: =IF(D18<29,"Kém",IF(D18<50,"Yếu",IF(D18<60,"TB",IF(D18<70, "TB khá",IF(D18<80,"Khá",IF(D18<90,"Tốt","Xuất sắc")))))) -> TB khá | F18: 60 | G18: =IF(F18<29,"Kém",IF(F18<50,"Yếu",IF(F18<60,"TB",IF(F18<70, "TB khá",IF(F18<80,"Khá",IF(F18<90,"Tốt","Xuất sắc")))))) -> TB khá
A19: 9 | B19: Trần Quốc | C19: Đạt | D19: 61 | E19: =IF(D19<29,"Kém",IF(D19<50,"Yếu",IF(D19<60,"TB",IF(D19<70, "TB khá",IF(D19<80,"Khá",IF(D19<90,"Tốt","Xuất sắc")))))) -> TB khá | F19: 54 | G19: =IF(F19<29,"Kém",IF(F19<50,"Yếu",IF(F19<60,"TB",IF(F19<70, "TB khá",IF(F19<80,"Khá",IF(F19<90,"Tốt","Xuất sắc")))))) -> TB
A20: 10 | B20: Trần Thành | C20: Đạt | D20: 72 | E20: =IF(D20<29,"Kém",IF(D20<50,"Yếu",IF(D20<60,"TB",IF(D20<70, "TB khá",IF(D20<80,"Khá",IF(D20<90,"Tốt","Xuất sắc")))))) -> Khá | F20: 55 | G20: =IF(F20<29,"Kém",IF(F20<50,"Yếu",IF(F20<60,"TB",IF(F20<70, "TB khá",IF(F20<80,"Khá",IF(F20<90,"Tốt","Xuất sắc")))))) -> TB
A21: 11 | B21: Đỗ Đại | C21: Độ | D21: 68 | E21: =IF(D21<29,"Kém",IF(D21<50,"Yếu",IF(D21<60,"TB",IF(D21<70, "TB khá",IF(D21<80,"Khá",IF(D21<90,"Tốt","Xuất sắc")))))) -> TB khá | F21: 54 | G21: =IF(F21<29,"Kém",IF(F21<50,"Yếu",IF(F21<60,"TB",IF(F21<70, "TB khá",IF(F21<80,"Khá",IF(F21<90,"Tốt","Xuất sắc")))))) -> TB
A22: 12 | B22: Quảng Văn | C22: Giản | D22: 65 | E22: =IF(D22<29,"Kém",IF(D22<50,"Yếu",IF(D22<60,"TB",IF(D22<70, "TB khá",IF(D22<80,"Khá",IF(D22<90,"Tốt","Xuất sắc")))))) -> TB khá | F22: 67 | G22: =IF(F22<29,"Kém",IF(F22<50,"Yếu",IF(F22<60,"TB",IF(F22<70, "TB khá",IF(F22<80,"Khá",IF(F22<90,"Tốt","Xuất sắc")))))) -> TB khá
A23: 13 | B23: Đậu Trọng | C23: Hải | D23: 49 | E23: =IF(D23<29,"Kém",IF(D23<50,"Yếu",IF(D23<60,"TB",IF(D23<70, "TB khá",IF(D23<80,"Khá",IF(D23<90,"Tốt","Xuất sắc")))))) -> Yếu | F23: 35 | G23: =IF(F23<29,"Kém",IF(F23<50,"Yếu",IF(F23<60,"TB",IF(F23<70, "TB khá",IF(F23<80,"Khá",IF(F23<90,"Tốt","Xuất sắc")))))) -> Yếu
A24: 14 | B24: Trần Minh | C24: Hải | D24: 62 | E24: =IF(D24<29,"Kém",IF(D24<50,"Yếu",IF(D24<60,"TB",IF(D24<70, "TB khá",IF(D24<80,"Khá",IF(D24<90,"Tốt","Xuất sắc")))))) -> TB khá | F24: 54 | G24: =IF(F24<29,"Kém",IF(F24<50,"Yếu",IF(F24<60,"TB",IF(F24<70, "TB khá",IF(F24<80,"Khá",IF(F24<90,"Tốt","Xuất sắc")))))) -> TB
... A52: 42 | B52: Lê Văn | C52: Dự | D52: 74 | E52: =IF(D52<29,"Kém",IF(D52<50,"Yếu",IF(D52<60,"TB",IF(D52<70, "TB khá",IF(D52<80,"Khá",IF(D52<90,"Tốt","Xuất sắc")))))) -> Khá | F52: 53 | G52: =IF(F52<29,"Kém",IF(F52<50,"Yếu",IF(F52<60,"TB",IF(F52<70, "TB khá",IF(F52<80,"Khá",IF(F52<90,"Tốt","Xuất sắc")))))) -> TB
B54: TỔNG KẾT LỚP
B55: LOẠI | D55: GV.CHỦ NHIỆM | F55: TRỢ LÝ KHOA | H55: GHI CHÚ
D56: TỔNG SỐ | E56: TỶ LỆ % | F56: TỔNG SỐ | G56: TỶ LỆ %
B57: XUẤT SẮC | D57: =COUNTIF(D11:D52,">=90") -> 0 | E57: =ROUND(D57*100/51,2) -> 0 | F57: =COUNTIF(F11:F52,">=90") -> 1 | G57: =ROUND(F57*100/51,2) -> 1.96
B58: TỐT | D58: =COUNTIF(D11:D52,">=80")-COUNTIF(D11:D52,">89") -> 0 | E58: =ROUND(D58*100/51,2) -> 0 | F58: =COUNTIF(F11:F52,">=80")-COUNTIF(F11:F52,">89") -> 0 | G58: =ROUND(F58*100/51,2) -> 0
B59: KHÁ | D59: =COUNTIF(D11:D52,">=70")-COUNTIF(D11:D52,">79") -> 10 | E59: =ROUND(D59*100/51,2) -> 19.61 | F59: =COUNTIF(F11:F52,">=70")-COUNTIF(F11:F52,">79") -> 6 | G59: =ROUND(F59*100/51,2) -> 11.76
B60: TRUNG BÌNH KHÁ | D60: =COUNTIF(D11:D52,">=60")-COUNTIF(D11:D52,">69") -> 21 | E60: =ROUND(D60*100/51,2) -> 41.18 | F60: =COUNTIF(F11:F52,">=60")-COUNTIF(F11:F52,">69") -> 14 | G60: =ROUND(F60*100/51,2) -> 27.45
B61: TRUNG BÌNH | D61: =COUNTIF(D11:D52,">=50")-COUNTIF(D11:D52,">59") -> 9 | E61: =ROUND(D61*100/51,2) -> 17.65 | F61: =COUNTIF(F11:F52,">=50")-COUNTIF(F11:F52,">59") -> 14 | G61: =ROUND(F61*100/51,2) -> 27.45
B62: YẾU | D62: =COUNTIF(D11:D52,">=29")-COUNTIF(D11:D52,">49") -> 1 | E62: =ROUND(D62*100/51,2) -> 1.96 | F62: =COUNTIF(F11:F52,">=29")-COUNTIF(F11:F52,">49") -> 7 | G62: =ROUND(F62*100/51,2) -> 13.73
B63: KÉM | D63: =COUNTIF(D11:D52,"<29") -> 0 | E63: =ROUND(D63*100/51,2) -> 0 | F63: =COUNTIF(F11:F52,"<29") -> 0 | G63: =ROUND(F63*100/51,2) -> 0
G65: Tân Bình, Ngày 9 tháng 7 năm 2015
B66: QUẢN LÝ HSSV | E66: GV.CHỦ NHIỆM | H66: LỚP TRƯỞNG
E71: Nguyễn Thanh Vĩnh Phúc

Sheet HK 2
K1: MẪU 3
A2: ỦY BAN NHÂN DÂN TP.HCM | G2: CỘNG HÒA XÃ HỘI CHỦ NGHĨA VIỆT NAM
A3: TRƯỜNG CĐ KỸ THUẬT LÝ TỰ TRỌNG | G3: Độc lập – Tự do – Hạnh phúc
A4: *********************************
A5: BẢNG TỔNG KẾT ĐÁNH GIÁ KẾT QUẢ RÈN LUYỆN
A6: Học kỳ: 2 . Năm học: 2014 - 2015
A7: Lớp: 12CĐ - CK3 Sĩ số: 42 Khoa: Công nghệ Cơ khí
A9: TT | B9: HỌ VÀ TÊN | D9: GVCN | F9: QUẢN LÝ HSSV | H9: GHI CHÚ
D10: ĐiỂM RL | E10: XẾP LOẠI | F10: ĐiỂM RL | G10: XẾP LOẠI
A11: 1 | B11: Phạm Long | C11: An | D11: 77 | E11: =IF(D11<29,"Kém",IF(D11<50,"Yếu",IF(D11<60,"TB",IF(D11<70, "TB khá",IF(D11<80,"Khá",IF(D11<90,"Tốt","Xuất sắc")))))) -> Khá | F11: 56 | G11: =IF(F11<29,"Kém",IF(F11<50,"Yếu",IF(F11<60,"TB",IF(F11<70, "TB khá",IF(F11<80,"Khá",IF(F11<90,"Tốt","Xuất sắc")))))) -> TB
A12: 2 | B12: Lê Tuấn | C12: Anh | D12: 59 | E12: =IF(D12<29,"Kém",IF(D12<50,"Yếu",IF(D12<60,"TB",IF(D12<70, "TB khá",IF(D12<80,"Khá",IF(D12<90,"Tốt","Xuất sắc")))))) -> TB | F12: 50 | G12: =IF(F12<29,"Kém",IF(F12<50,"Yếu",IF(F12<60,"TB",IF(F12<70, "TB khá",IF(F12<80,"Khá",IF(F12<90,"Tốt","Xuất sắc")))))) -> TB
A13: 3 | B13: Trần Văn | C13: Bảo | D13: 70 | E13: =IF(D13<29,"Kém",IF(D13<50,"Yếu",IF(D13<60,"TB",IF(D13<70, "TB khá",IF(D13<80,"Khá",IF(D13<90,"Tốt","Xuất sắc")))))) -> Khá | F13: 66 | G13: =IF(F13<29,"Kém",IF(F13<50,"Yếu",IF(F13<60,"TB",IF(F13<70, "TB khá",IF(F13<80,"Khá",IF(F13<90,"Tốt","Xuất sắc")))))) -> TB khá
A14: 4 | B14: Vũ Cao | C14: Bền | D14: 76 | E14: =IF(D14<29,"Kém",IF(D14<50,"Yếu",IF(D14<60,"TB",IF(D14<70, "TB khá",IF(D14<80,"Khá",IF(D14<90,"Tốt","Xuất sắc")))))) -> Khá | F14: 70 | G14: =IF(F14<29,"Kém",IF(F14<50,"Yếu",IF(F14<60,"TB",IF(F14<70, "TB khá",IF(F14<80,"Khá",IF(F14<90,"Tốt","Xuất sắc")))))) -> Khá
A15: 5 | B15: Bùi Văn | C15: Dân | D15: 0 | E15: =IF(D15<29,"Kém",IF(D15<50,"Yếu",IF(D15<60,"TB",IF(D15<70, "TB khá",IF(D15<80,"Khá",IF(D15<90,"Tốt","Xuất sắc")))))) -> Kém | F15: 0 | G15: =IF(F15<29,"Kém",IF(F15<50,"Yếu",IF(F15<60,"TB",IF(F15<70, "TB khá",IF(F15<80,"Khá",IF(F15<90,"Tốt","Xuất sắc")))))) -> Kém
A16: 6 | B16: Nguyễn Hoàng | C16: Dinh | D16: 66 | E16: =IF(D16<29,"Kém",IF(D16<50,"Yếu",IF(D16<60,"TB",IF(D16<70, "TB khá",IF(D16<80,"Khá",IF(D16<90,"Tốt","Xuất sắc")))))) -> TB khá | F16: 66 | G16: =IF(F16<29,"Kém",IF(F16<50,"Yếu",IF(F16<60,"TB",IF(F16<70, "TB khá",IF(F16<80,"Khá",IF(F16<90,"Tốt","Xuất sắc")))))) -> TB khá
A17: 7 | B17: Nguyễn Văn | C17: Duy | D17: 81 | E17: =IF(D17<29,"Kém",IF(D17<50,"Yếu",IF(D17<60,"TB",IF(D17<70, "TB khá",IF(D17<80,"Khá",IF(D17<90,"Tốt","Xuất sắc")))))) -> Tốt | F17: 63 | G17: =IF(F17<29,"Kém",IF(F17<50,"Yếu",IF(F17<60,"TB",IF(F17<70, "TB khá",IF(F17<80,"Khá",IF(F17<90,"Tốt","Xuất sắc")))))) -> TB khá
A18: 8 | B18: Bùi Châu Duy | C18: Đằng | D18: 75 | E18: =IF(D18<29,"Kém",IF(D18<50,"Yếu",IF(D18<60,"TB",IF(D18<70, "TB khá",IF(D18<80,"Khá",IF(D18<90,"Tốt","Xuất sắc")))))) -> Khá | F18: 64 | G18: =IF(F18<29,"Kém",IF(F18<50,"Yếu",IF(F18<60,"TB",IF(F18<70, "TB khá",IF(F18<80,"Khá",IF(F18<90,"Tốt","Xuất sắc")))))) -> TB khá
A19: 9 | B19: Trần Quốc | C19: Đạt | D19: 62 | E19: =IF(D19<29,"Kém",IF(D19<50,"Yếu",IF(D19<60,"TB",IF(D19<70, "TB khá",IF(D19<80,"Khá",IF(D19<90,"Tốt","Xuất sắc")))))) -> TB khá | F19: 62 | G19: =IF(F19<29,"Kém",IF(F19<50,"Yếu",IF(F19<60,"TB",IF(F19<70, "TB khá",IF(F19<80,"Khá",IF(F19<90,"Tốt","Xuất sắc")))))) -> TB khá
A20: 10 | B20: Trần Thành | C20: Đạt | D20: 73 | E20: =IF(D20<29,"Kém",IF(D20<50,"Yếu",IF(D20<60,"TB",IF(D20<70, "TB khá",IF(D20<80,"Khá",IF(D20<90,"Tốt","Xuất sắc")))))) -> Khá | F20: 66 | G20: =IF(F20<29,"Kém",IF(F20<50,"Yếu",IF(F20<60,"TB",IF(F20<70, "TB khá",IF(F20<80,"Khá",IF(F20<90,"Tốt","Xuất sắc")))))) -> TB khá
A21: 11 | B21: Đỗ Đại | C21: Độ | D21: 70 | E21: =IF(D21<29,"Kém",IF(D21<50,"Yếu",IF(D21<60,"TB",IF(D21<70, "TB khá",IF(D21<80,"Khá",IF(D21<90,"Tốt","Xuất sắc")))))) -> Khá | F21: 58 | G21: =IF(F21<29,"Kém",IF(F21<50,"Yếu",IF(F21<60,"TB",IF(F21<70, "TB khá",IF(F21<80,"Khá",IF(F21<90,"Tốt","Xuất sắc")))))) -> TB
A22: 12 | B22: Quảng Văn | C22: Giản | D22: 60 | E22: =IF(D22<29,"Kém",IF(D22<50,"Yếu",IF(D22<60,"TB",IF(D22<70, "TB khá",IF(D22<80,"Khá",IF(D22<90,"Tốt","Xuất sắc")))))) -> TB khá | F22: 66 | G22: =IF(F22<29,"Kém",IF(F22<50,"Yếu",IF(F22<60,"TB",IF(F22<70, "TB khá",IF(F22<80,"Khá",IF(F22<90,"Tốt","Xuất sắc")))))) -> TB khá
... A52: 42 | B52: Lê Văn | C52: Dự | D52: 79 | E52: =IF(D52<29,"Kém",IF(D52<50,"Yếu",IF(D52<60,"TB",IF(D52<70, "TB khá",IF(D52<80,"Khá",IF(D52<90,"Tốt","Xuất sắc")))))) -> Khá | F52: 70 | G52: =IF(F52<29,"Kém",IF(F52<50,"Yếu",IF(F52<60,"TB",IF(F52<70, "TB khá",IF(F52<80,"Khá",IF(F52<90,"Tốt","Xuất sắc")))))) -> Khá
B54: TỔNG KẾT LỚP
B55: LOẠI | D55: GV.CHỦ NHIỆM | F55: TRỢ LÝ KHOA | H55: GHI CHÚ
D56: TỔNG SỐ | E56: TỶ LỆ % | F56: TỔNG SỐ | G56: TỶ LỆ %
B57: XUẤT SẮC | D57: =COUNTIF(D9:D52,">=90") -> 1 | E57: =ROUND(D57*100/49,2) -> 2.04 | F57: =COUNTIF(F9:F52,">=90") -> 0 | G57: =ROUND(F57*100/49,2) -> 0
B58: TỐT | D58: =COUNTIF(D9:D52,">=80")-COUNTIF(D9:D52,">89") -> 1 | E58: =ROUND(D58*100/49,2) -> 2.04 | F58: =COUNTIF(F9:F52,">=80")-COUNTIF(F9:F52,">89") -> 1 | G58: =ROUND(F58*100/49,2) -> 2.04
B59: KHÁ | D59: =COUNTIF(D9:D52,">=70")-COUNTIF(D9:D52,">79") -> 26 | E59: =ROUND(D59*100/49,2) -> 53.06 | F59: =COUNTIF(F9:F52,">=70")-COUNTIF(F9:F52,">79") -> 16 | G59: =ROUND(F59*100/49,2) -> 32.65
B60: TRUNG BÌNH KHÁ | D60: =COUNTIF(D9:D52,">=60")-COUNTIF(D9:D52,">69") -> 9 | E60: =ROUND(D60*100/49,2) -> 18.37 | F60: =COUNTIF(F9:F52,">=60")-COUNTIF(F9:F52,">69") -> 16 | G60: =ROUND(F60*100/49,2) -> 32.65
B61: TRUNG BÌNH | D61: =COUNTIF(D9:D52,">=50")-COUNTIF(D9:D52,">59") -> 2 | E61: =ROUND(D61*100/49,2) -> 4.08 | F61: =COUNTIF(F9:F52,">=50")-COUNTIF(F9:F52,">59") -> 6 | G61: =ROUND(F61*100/49,2) -> 12.24
B62: YẾU | D62: =COUNTIF(D9:D52,">=29")-COUNTIF(D9:D52,">49") -> 1 | E62: =ROUND(D62*100/49,2) -> 2.04 | F62: =COUNTIF(F9:F52,">=29")-COUNTIF(F9:F52,">49") -> 1 | G62: =ROUND(F62*100/49,2) -> 2.04
B63: KÉM | D63: =COUNTIF(D9:D52,"<29") -> 2 | E63: =ROUND(D63*100/49,2) -> 4.08 | F63: =COUNTIF(F9:F52,"<29") -> 2 | G63: =ROUND(F63*100/49,2) -> 4.08
H65: Tân Bình, Ngày 12 tháng 7 năm 2015
B66: QUẢN LÝ HSSV | E66: GV.CHỦ NHIỆM | H66: LỚP TRƯỞNG
C71: Nguyễn Thanh Vĩnh Phúc

Sheet Ca Nam
K1: MẪU 3
A2: ỦY BAN NHÂN DÂN TP.HCM | G2: CỘNG HÒA XÃ HỘI CHỦ NGHĨA VIỆT NAM
A3: TRƯỜNG CĐ KỸ THUẬT LÝ TỰ TRỌNG | G3: Độc lập – Tự do – Hạnh phúc
A4: *********************************
A5: BẢNG TỔNG KẾT ĐÁNH GIÁ KẾT QUẢ RÈN LUYỆN
A6: Năm học: 2014 - 2015
A7: Lớp: 12CĐ - CK3 Sĩ số: 42 Khoa: Công nghệ Cơ khí
A9: TT | B9: HỌ VÀ TÊN | D9: ĐIỂM RL | F9: ĐIỂM RL | H9: XẾP LOẠI | J9: SỐ NGÀY
D10: HK1 | E10: HK2 | F10: CN | G10: Quản lý HSSV | H10: CN | I10: Quản lý HSSV | J10: P | K10: KP
A11: 1 | B11: Phạm Long | C11: An | D11: ='HK 1'!F11 -> 46 | E11: ='HK 2'!F11 -> 56 | F11: =ROUND((D11+E11)/2,0) -> 51 | G11: =F11 -> 51 | H11: =IF(F11<30,"Kém",IF(F11<50,"Yếu",IF(F11<60,"TB",IF(F11<70, "TB khá",IF(F11<80,"Khá",IF(F11<90,"Tốt","Xuất sắc")))))) -> TB | I11: =H11 -> TB | J11: 5 | K11: 8
A12: 2 | B12: Lê Tuấn | C12: Anh | D12: ='HK 1'!F12 -> 36 | E12: ='HK 2'!F12 -> 50 | F12: =ROUND((D12+E12)/2,0) -> 43 | G12: =F12 -> 43 | H12: =IF(F12<30,"Kém",IF(F12<50,"Yếu",IF(F12<60,"TB",IF(F12<70, "TB khá",IF(F12<80,"Khá",IF(F12<90,"Tốt","Xuất sắc")))))) -> Yếu | I12: =H12 -> Yếu | K12: 12
A13: 3 | B13: Trần Văn | C13: Bảo | D13: ='HK 1'!F13 -> 63 | E13: ='HK 2'!F13 -> 66 | F13: =ROUND((D13+E13)/2,0) -> 65 | G13: =F13 -> 65 | H13: =IF(F13<30,"Kém",IF(F13<50,"Yếu",IF(F13<60,"TB",IF(F13<70, "TB khá",IF(F13<80,"Khá",IF(F13<90,"Tốt","Xuất sắc")))))) -> TB khá | I13: =H13 -> TB khá | J13: 2 | K13: 1
A14: 4 | B14: Vũ Cao | C14: Bền | D14: ='HK 1'!F14 -> 73 | E14: ='HK 2'!F14 -> 70 | F14: =ROUND((D14+E14)/2,0) -> 72 | G14: =F14 -> 72 | H14: =IF(F14<30,"Kém",IF(F14<50,"Yếu",IF(F14<60,"TB",IF(F14<70, "TB khá",IF(F14<80,"Khá",IF(F14<90,"Tốt","Xuất sắc")))))) -> Khá | I14: =H14 -> Khá | K14: 33
A15: 5 | B15: Bùi Văn | C15: Dân | D15: ='HK 1'!F15 -> 31 | E15: ='HK 2'!F15 -> 0 | F15: =ROUND((D15+E15)/2,0) -> 16 | G15: =F15 -> 16 | H15: =IF(F15<30,"Kém",IF(F15<50,"Yếu",IF(F15<60,"TB",IF(F15<70, "TB khá",IF(F15<80,"Khá",IF(F15<90,"Tốt","Xuất sắc")))))) -> Kém | I15: =H15 -> Kém | K15: 13
A16: 6 | B16: Nguyễn Hoàng | C16: Dinh | D16: ='HK 1'!F16 -> 66 | E16: ='HK 2'!F16 -> 66 | F16: =ROUND((D16+E16)/2,0) -> 66 | G16: =F16 -> 66 | H16: =IF(F16<30,"Kém",IF(F16<50,"Yếu",IF(F16<60,"TB",IF(F16<70, "TB khá",IF(F16<80,"Khá",IF(F16<90,"Tốt","Xuất sắc")))))) -> TB khá | I16: =H16 -> TB khá | K16: 24
A17: 7 | B17: Nguyễn Văn | C17: Duy | D17: ='HK 1'!F17 -> 60 | E17: ='HK 2'!F17 -> 63 | F17: =ROUND((D17+E17)/2,0) -> 62 | G17: =F17 -> 62 | H17: =IF(F17<30,"Kém",IF(F17<50,"Yếu",IF(F17<60,"TB",IF(F17<70, "TB khá",IF(F17<80,"Khá",IF(F17<90,"Tốt","Xuất sắc")))))) -> TB khá | I17: =H17 -> TB khá | J17: 1 | K17: 0
A18: 8 | B18: Bùi Châu Duy | C18: Đằng | D18: ='HK 1'!F18 -> 60 | E18: ='HK 2'!F18 -> 64 | F18: =ROUND((D18+E18)/2,0) -> 62 | G18: =F18 -> 62 | H18: =IF(F18<30,"Kém",IF(F18<50,"Yếu",IF(F18<60,"TB",IF(F18<70, "TB khá",IF(F18<80,"Khá",IF(F18<90,"Tốt","Xuất sắc")))))) -> TB khá | I18: =H18 -> TB khá | J18: 9 | K18: 4
A19: 9 | B19: Trần Quốc | C19: Đạt | D19: ='HK 1'!F19 -> 54 | E19: ='HK 2'!F19 -> 62 | F19: =ROUND((D19+E19)/2,0) -> 58 | G19: =F19 -> 58 | H19: =IF(F19<30,"Kém",IF(F19<50,"Yếu",IF(F19<60,"TB",IF(F19<70, "TB khá",IF(F19<80,"Khá",IF(F19<90,"Tốt","Xuất sắc")))))) -> TB | I19: =H19 -> TB | J19: 2 | K19: 6
A20: 10 | B20: Trần Thành | C20: Đạt | D20: ='HK 1'!F20 -> 55 | E20: ='HK 2'!F20 -> 66 | F20: =ROUND((D20+E20)/2,0) -> 61 | G20: =F20 -> 61 | H20: =IF(F20<30,"Kém",IF(F20<50,"Yếu",IF(F20<60,"TB",IF(F20<70, "TB khá",IF(F20<80,"Khá",IF(F20<90,"Tốt","Xuất sắc")))))) -> TB khá | I20: =H20 -> TB khá | J20: 8 | K20: 9
A21: 11 | B21: Đỗ Đại | C21: Độ | D21: ='HK 1'!F21 -> 54 | E21: ='HK 2'!F21 -> 58 | F21: =ROUND((D21+E21)/2,0) -> 56 | G21: =F21 -> 56 | H21: =IF(F21<30,"Kém",IF(F21<50,"Yếu",IF(F21<60,"TB",IF(F21<70, "TB khá",IF(F21<80,"Khá",IF(F21<90,"Tốt","Xuất sắc")))))) -> TB | I21: =H21 -> TB | J21: 2 | K21: 7
A22: 12 | B22: Quảng Văn | C22: Giản | D22: ='HK 1'!F22 -> 67 | E22: ='HK 2'!F22 -> 66 | F22: =ROUND((D22+E22)/2,0) -> 67 | G22: =F22 -> 67 | H22: =IF(F22<30,"Kém",IF(F22<50,"Yếu",IF(F22<60,"TB",IF(F22<70, "TB khá",IF(F22<80,"Khá",IF(F22<90,"Tốt","Xuất sắc")))))) -> TB khá | I22: =H22 -> TB khá | K22: 21
A23: 13 | B23: Đậu Trọng | C23: Hải | D23: ='HK 1'!F23 -> 35 | E23: ='HK 2'!F23 -> 50 | F23: =ROUND((D23+E23)/2,0) -> 43 | G23: =F23 -> 43 | H23: =IF(F23<30,"Kém",IF(F23<50,"Yếu",IF(F23<60,"TB",IF(F23<70, "TB khá",IF(F23<80,"Khá",IF(F23<90,"Tốt","Xuất sắc")))))) -> Yếu | I23: =H23 -> Yếu | J23: 1 | K23: 16
A24: 14 | B24: Trần Minh | C24: Hải | D24: ='HK 1'!F24 -> 54 | E24: ='HK 2'!F24 -> 70 | F24: =ROUND((D24+E24)/2,0) -> 62 | G24: =F24 -> 62 | H24: =IF(F24<30,"Kém",IF(F24<50,"Yếu",IF(F24<60,"TB",IF(F24<70, "TB khá",IF(F24<80,"Khá",IF(F24<90,"Tốt","Xuất sắc")))))) -> TB khá | I24: =H24 -> TB khá | K24: 7
A25: 15 | B25: Huỳnh Trung | C25: Hiếu | D25: ='HK 1'!F25 -> 60 | E25: ='HK 2'!F25 -> 70 | F25: =ROUND((D25+E25)/2,0) -> 65 | G25: =F25 -> 65 | H25: =IF(F25<30,"Kém",IF(F25<50,"Yếu",IF(F25<60,"TB",IF(F25<70, "TB khá",IF(F25<80,"Khá",IF(F25<90,"Tốt","Xuất sắc")))))) -> TB khá | I25: =H25 -> TB khá | J25: 13 | K25: 30
A26: 16 | B26: Phùng Quang | C26: Hoàng | D26: ='HK 1'!F26 -> 70 | E26: ='HK 2'!F26 -> 70 | F26: =ROUND((D26+E26)/2,0) -> 70 | G26: =F26 -> 70 | H26: =IF(F26<30,"Kém",IF(F26<50,"Yếu",IF(F26<60,"TB",IF(F26<70, "TB khá",IF(F26<80,"Khá",IF(F26<90,"Tốt","Xuất sắc")))))) -> Khá | I26: =H26 -> Khá | J26: 5 | K26: 1
A27: 17 | B27: Phạm Hoàng | C27: Hôn | D27: ='HK 1'!F27 -> 59 | E27: ='HK 2'!F27 -> 70 | F27: =ROUND((D27+E27)/2,0) -> 65 | G27: =F27 -> 65 | H27: =IF(F27<30,"Kém",IF(F27<50,"Yếu",IF(F27<60,"TB",IF(F27<70, "TB khá",IF(F27<80,"Khá",IF(F27<90,"Tốt","Xuất sắc")))))) -> TB khá | I27: =H27 -> TB khá | J27: 3 | K27: 2
A28: 18 | B28: Nguyễn Công | C28: Khanh | D28: ='HK 1'!F28 -> 48 | E28: ='HK 2'!F28 -> 50 | F28: =ROUND((D28+E28)/2,0) -> 49 | G28: =F28 -> 49 | H28: =IF(F28<30,"Kém",IF(F28<50,"Yếu",IF(F28<60,"TB",IF(F28<70, "TB khá",IF(F28<80,"Khá",IF(F28<90,"Tốt","Xuất sắc")))))) -> Yếu | I28: =H28 -> Yếu | J28: 1 | K28: 3
A29: 19 | B29: Huỳnh Anh | C29: Kiệt | D29: ='HK 1'!F29 -> 63 | E29: ='HK 2'!F29 -> 70 | F29: =ROUND((D29+E29)/2,0) -> 67 | G29: =F29 -> 67 | H29: =IF(F29<30,"Kém",IF(F29<50,"Yếu",IF(F29<60,"TB",IF(F29<70, "TB khá",IF(F29<80,"Khá",IF(F29<90,"Tốt","Xuất sắc")))))) -> TB khá | I29: =H29 -> TB khá | J29: 1 | K29: 16
A30: 20 | B30: Võ Văn | C30: Lệnh | D30: ='HK 1'!F30 -> 60 | E30: ='HK 2'!F30 -> 76 | F30: =ROUND((D30+E30)/2,0) -> 68 | G30: =F30 -> 68 | H30: =IF(F30<30,"Kém",IF(F30<50,"Yếu",IF(F30<60,"TB",IF(F30<70, "TB khá",IF(F30<80,"Khá",IF(F30<90,"Tốt","Xuất sắc")))))) -> TB khá | I30: =H30 -> TB khá | J30: 3 | K30: 1
A31: 21 | B31: Trần Ngọc | C31: Linh | D31: ='HK 1'!F31 -> 63 | E31: ='HK 2'!F31 -> 66 | F31: =ROUND((D31+E31)/2,0) -> 65 | G31: =F31 -> 65 | H31: =IF(F31<30,"Kém",IF(F31<50,"Yếu",IF(F31<60,"TB",IF(F31<70, "TB khá",IF(F31<80,"Khá",IF(F31<90,"Tốt","Xuất sắc")))))) -> TB khá | I31: =H31 -> TB khá | J31: 2 | K31: 5
A32: 22 | B32: Ngô Hoàng | C32: Long | D32: ='HK 1'!F32 -> 63 | E32: ='HK 2'!F32 -> 71 | F32: =ROUND((D32+E32)/2,0) -> 67 | G32: =F32 -> 67 | H32: =IF(F32<30,"Kém",IF(F32<50,"Yếu",IF(F32<60,"TB",IF(F32<70, "TB khá",IF(F32<80,"Khá",IF(F32<90,"Tốt","Xuất sắc")))))) -> TB khá | I32: =H32 -> TB khá | J32: 4 | K32: 23
A33: 23 | B33: Hoàng Văn | C33: Lục | D33: ='HK 1'!F33 -> 62 | E33: ='HK 2'!F33 -> 71 | F33: =ROUND((D33+E33)/2,0) -> 67 | G33: =F33 -> 67 | H33: =IF(F33<30,"Kém",IF(F33<50,"Yếu",IF(F33<60,"TB",IF(F33<70, "TB khá",IF(F33<80,"Khá",IF(F33<90,"Tốt","Xuất sắc")))))) -> TB khá | I33: =H33 -> TB khá | J33: 3 | K33: 15
A34: 24 | B34: Nguyễn Thái | C34: Nguyên | D34: ='HK 1'!F34 -> 51 | E34: ='HK 2'!F34 -> 62 | F34: =ROUND((D34+E34)/2,0) -> 57 | G34: =F34 -> 57 | H34: =IF(F34<30,"Kém",IF(F34<50,"Yếu",IF(F34<60,"TB",IF(F34<70, "TB khá",IF(F34<80,"Khá",IF(F34<90,"Tốt","Xuất sắc")))))) -> TB | I34: =H34 -> TB | J34: 9 | K34: 16
A35: 25 | B35: Văn Quang | C35: Ninh | D35: ='HK 1'!F35 -> 52 | E35: ='HK 2'!F35 -> 50 | F35: =ROUND((D35+E35)/2,0) -> 51 | G35: =F35 -> 51 | H35: =IF(F35<30,"Kém",IF(F35<50,"Yếu",IF(F35<60,"TB",IF(F35<70, "TB khá",IF(F35<80,"Khá",IF(F35<90,"Tốt","Xuất sắc")))))) -> TB | I35: =H35 -> TB | J35: 5 | K35: 15
A36: 26 | B36: Võ Tấn | C36: Phong | D36: ='HK 1'!F36 -> 60 | E36: ='HK 2'!F36 -> 66 | F36: =ROUND((D36+E36)/2,0) -> 63 | G36: =F36 -> 63 | H36: =IF(F36<30,"Kém",IF(F36<50,"Yếu",IF(F36<60,"TB",IF(F36<70, "TB khá",IF(F36<80,"Khá",IF(F36<90,"Tốt","Xuất sắc")))))) -> TB khá | I36: =H36 -> TB khá | K36: 7
A37: 27 | B37: Bùi Thiên | C37: Phước | D37: ='HK 1'!F37 -> 70 | E37: ='HK 2'!F37 -> 74 | F37: =ROUND((D37+E37)/2,0) -> 72 | G37: =F37 -> 72 | H37: =IF(F37<30,"Kém",IF(F37<50,"Yếu",IF(F37<60,"TB",IF(F37<70, "TB khá",IF(F37<80,"Khá",IF(F37<90,"Tốt","Xuất sắc")))))) -> Khá | I37: =H37 -> Khá | J37: 9 | K37: 0
A38: 28 | B38: Nguyễn Minh | C38: Quân | D38: ='HK 1'!F38 -> 51 | E38: ='HK 2'!F38 -> 68 | F38: =ROUND((D38+E38)/2,0) -> 60 | G38: =F38 -> 60 | H38: =IF(F38<30,"Kém",IF(F38<50,"Yếu",IF(F38<60,"TB",IF(F38<70, "TB khá",IF(F38<80,"Khá",IF(F38<90,"Tốt","Xuất sắc")))))) -> TB khá | I38: =H38 -> TB khá | J38: 4 | K38: 5
A39: 29 | B39: Nguyễn Duy | C39: Quang | D39: ='HK 1'!F39 -> 58 | E39: ='HK 2'!F39 -> 64 | F39: =ROUND((D39+E39)/2,0) -> 61 | G39: =F39 -> 61 | H39: =IF(F39<30,"Kém",IF(F39<50,"Yếu",IF(F39<60,"TB",IF(F39<70, "TB khá",IF(F39<80,"Khá",IF(F39<90,"Tốt","Xuất sắc")))))) -> TB khá | I39: =H39 -> TB khá | J39: 1 | K39: 2
A40: 30 | B40: Đặng | C40: Sáng | D40: ='HK 1'!F40 -> 55 | E40: ='HK 2'!F40 -> 66 | F40: =ROUND((D40+E40)/2,0) -> 61 | G40: =F40 -> 61 | H40: =IF(F40<30,"Kém",IF(F40<50,"Yếu",IF(F40<60,"TB",IF(F40<70, "TB khá",IF(F40<80,"Khá",IF(F40<90,"Tốt","Xuất sắc")))))) -> TB khá | I40: =H40 -> TB khá | K40: 12
A41: 31 | B41: Vi Văn | C41: Sức | D41: ='HK 1'!F41 -> 71 | E41: ='HK 2'!F41 -> 74 | F41: =ROUND((D41+E41)/2,0) -> 73 | G41: =F41 -> 73 | H41: =IF(F41<30,"Kém",IF(F41<50,"Yếu",IF(F41<60,"TB",IF(F41<70, "TB khá",IF(F41<80,"Khá",IF(F41<90,"Tốt","Xuất sắc")))))) -> Khá | I41: =H41 -> Khá | J41: 4 | K41: 17
...

Sheet Toan Khoa
A2: ỦY BAN NHÂN DÂN TP.HCM | G2: CỘNG HÒA XÃ HỘI CHỦ NGHĨA VIỆT NAM
A3: TRƯỜNG CĐ KỸ THUẬT LÝ TỰ TRỌNG | G3: Độc lập – Tự do – Hạnh phúc
A4: *********************************
A5: BẢNG TỔNG KẾT KẾT QUẢ RÈN LUYỆN TOÀN KHÓA
A6: Niên khóa: 2014 - 2015
A7: Lớp: 12CĐ - CK3 Sĩ số: 42
A9: TT | B9: HỌ VÀ TÊN | D9: KẾT QUẢ RÈN LUYỆN TỪNG NĂM | G9: KQRL TOÀN KHÓA | H9: XẾP LOẠI TOÀN KHÓA | I9: GHI CHÚ
D10: NĂM 1 (Hệ số 1) | E10: NĂM 2 (Hệ số 2) | F10: NĂM 3 (Hệ số 3)
A11: 1 | B11: Phạm Long | C11: An | D11: 58 | E11: 1 | F11: 1 | G11: =ROUND((D11+(E11*2)+(F11*3))/6,0) -> 11
A12: 2 | B12: Lê Tuấn | C12: Anh | D12: 67 | E12: 55 | F12: ='Ca Nam'!G11 -> 51 | G12: =ROUND((D12+(E12*2)+(F12*3))/6,0) -> 55 | H12: =IF(G12<30,"Kém",IF(G12<50,"Yếu",IF(G12<60,"TB",IF(G12<70, "TB khá",IF(G12<80,"Khá",IF(G12<90,"Tốt","Xuất sắc")))))) -> TB
A13: 3 | B13: Trần Văn | C13: Bảo | D13: 69 | E13: 58 | F13: ='Ca Nam'!G12 -> 43 | G13: =ROUND((D14+(E14*2)+(F13*3))/6,0) -> 60 | H13: =IF(G13<30,"Kém",IF(G13<50,"Yếu",IF(G13<60,"TB",IF(G13<70, "TB khá",IF(G13<80,"Khá",IF(G13<90,"Tốt","Xuất sắc")))))) -> TB khá
A14: 4 | B14: Vũ Cao | C14: Bền | D14: 68 | E14: 81 | F14: ='Ca Nam'!G13 -> 65 | G14: =ROUND((D15+(E15*2)+(F14*3))/6,0) -> 52 | H14: =IF(G14<30,"Kém",IF(G14<50,"Yếu",IF(G14<60,"TB",IF(G14<70, "TB khá",IF(G14<80,"Khá",IF(G14<90,"Tốt","Xuất sắc")))))) -> TB
A15: 5 | B15: Bùi Văn | C15: Dân | D15: 37 | E15: 41 | F15: ='Ca Nam'!G14 -> 72 | G15: =ROUND((D16+(E16*2)+(F15*3))/6,0) -> 61 | H15: =IF(G15<30,"Kém",IF(G15<50,"Yếu",IF(G15<60,"TB",IF(G15<70, "TB khá",IF(G15<80,"Khá",IF(G15<90,"Tốt","Xuất sắc")))))) -> TB khá
A16: 6 | B16: Nguyễn Hoàng | C16: Dinh | D16: 57 | E16: 45 | F16: ='Ca Nam'!G15 -> 16 | G16: =ROUND((D17+(E17*2)+(F16*3))/6,0) -> 40 | H16: =IF(G16<30,"Kém",IF(G16<50,"Yếu",IF(G16<60,"TB",IF(G16<70, "TB khá",IF(G16<80,"Khá",IF(G16<90,"Tốt","Xuất sắc")))))) -> Yếu
A17: 7 | B17: Nguyễn Văn | C17: Duy | D17: 75 | E17: 57 | F17: ='Ca Nam'!G16 -> 66 | G17: =ROUND((D18+(E18*2)+(F17*3))/6,0) -> 67 | H17: =IF(G17<30,"Kém",IF(G17<50,"Yếu",IF(G17<60,"TB",IF(G17<70, "TB khá",IF(G17<80,"Khá",IF(G17<90,"Tốt","Xuất sắc")))))) -> TB khá
A18: 8 | B18: Bùi Châu Duy | C18: Đằng | D18: 63 | E18: 70 | F18: ='Ca Nam'!G17 -> 62 | G18: =ROUND((D19+(E19*2)+(F18*3))/6,0) -> 60 | H18: =IF(G18<30,"Kém",IF(G18<50,"Yếu",IF(G18<60,"TB",IF(G18<70, "TB khá",IF(G18<80,"Khá",IF(G18<90,"Tốt","Xuất sắc")))))) -> TB khá
A19: 9 | B19: Trần Quốc | C19: Đạt | D19: 59 | E19: 58 | F19: ='Ca Nam'!G18 -> 62 | G19: =ROUND((D20+(E20*2)+(F19*3))/6,0) -> 61 | H19: =IF(G19<30,"Kém",IF(G19<50,"Yếu",IF(G19<60,"TB",IF(G19<70, "TB khá",IF(G19<80,"Khá",IF(G19<90,"Tốt","Xuất sắc")))))) -> TB khá
A20: 10 | B20: Trần Thành | C20: Đạt | D20: 66 | E20: 58 | F20: ='Ca Nam'!G19 -> 58 | G20: =ROUND((D21+(E21*2)+(F20*3))/6,0) -> 55 | H20: =IF(G20<30,"Kém",IF(G20<50,"Yếu",IF(G20<60,"TB",IF(G20<70, "TB khá",IF(G20<80,"Khá",IF(G20<90,"Tốt","Xuất sắc")))))) -> TB
A21: 11 | B21: Đỗ Đại | C21: Độ | D21: 48 | E21: 55 | F21: ='Ca Nam'!G20 -> 61 | G21: =ROUND((D22+(E22*2)+(F21*3))/6,0) -> 69 | H21: =IF(G21<30,"Kém",IF(G21<50,"Yếu",IF(G21<60,"TB",IF(G21<70, "TB khá",IF(G21<80,"Khá",IF(G21<90,"Tốt","Xuất sắc")))))) -> TB khá
A22: 12 | B22: Quảng Văn | C22: Giản | D22: 70 | E22: 79 | F22: ='Ca Nam'!G21 -> 56 | G22: =ROUND((D23+(E23*2)+(F22*3))/6,0) -> 54 | H22: =IF(G22<30,"Kém",IF(G22<50,"Yếu",IF(G22<60,"TB",IF(G22<70, "TB khá",IF(G22<80,"Khá",IF(G22<90,"Tốt","Xuất sắc")))))) -> TB
A23: 13 | B23: Đậu Trọng | C23: Hải | D23: 69 | E23: 44 | F23: ='Ca Nam'!G22 -> 67 | G23: =ROUND((D24+(E24*2)+(F23*3))/6,0) -> 60 | H23: =IF(G23<30,"Kém",IF(G23<50,"Yếu",IF(G23<60,"TB",IF(G23<70, "TB khá",IF(G23<80,"Khá",IF(G23<90,"Tốt","Xuất sắc")))))) -> TB khá
A24: 14 | B24: Trần Minh | C24: Hải | D24: 65 | E24: 48 | F24: ='Ca Nam'!G23 -> 43 | G24: =ROUND((D25+(E25*2)+(F24*3))/6,0) -> 54 | H24: =IF(G24<30,"Kém",IF(G24<50,"Yếu",IF(G24<60,"TB",IF(G24<70, "TB khá",IF(G24<80,"Khá",IF(G24<90,"Tốt","Xuất sắc")))))) -> TB
... A52: 42 | B52: Lê Văn | C52: Dự | D52: 68 | E52: 51 | F52: ='Ca Nam'!G51 -> 62 | G52: =ROUND((D53+(E53*2)+(F52*3))/6,0) -> 31 | H52: =IF(G52<30,"Kém",IF(G52<50,"Yếu",IF(G52<60,"TB",IF(G52<70, "TB khá",IF(G52<80,"Khá",IF(G52<90,"Tốt","Xuất sắc")))))) -> Yếu
B53: TỔNG KẾT LỚP
B54: LOẠI | D54: CHỦ NHIỆM LỚP | H54: TRỢ LÝ KHOA
D55: TỔNG SỐ | E55: TỶ LỆ % | H55: TỔNG SỐ | I55: TỶ LỆ %
B56: XUẤT SẮC | D56: =COUNTIF(F11:F52,">=90") -> 1 | E56: =ROUND(C56*100/49,2) -> 0 | F56: =ROUND(D56*100/49,2) -> 2.04
B57: TỐT | D57: =COUNTIF(F11:F52,">=80")-COUNTIF(F11:F52,">89") -> 0 | F57: =ROUND(D57*100/49,2) -> 0
B58: KHÁ | D58: =COUNTIF(F11:F52,">=70")-COUNTIF(F11:F52,">79") -> 5 | F58: =ROUND(D58*100/49,2) -> 10.2
B59: TRUNG BÌNH KHÁ | D59: =COUNTIF(F11:F52,">=60")-COUNTIF(F11:F52,">69") -> 24 | F59: =ROUND(D59*100/49,2) -> 48.98
B60: TRUNG BÌNH | D60: =COUNTIF(F11:F52,">=50")-COUNTIF(F11:F52,">59") -> 5 | F60: =ROUND(D60*100/49,2) -> 10.2
B61: YẾU | D61: =COUNTIF(F11:F52,">=29")-COUNTIF(F11:F52,">49") -> 4 | F61: =ROUND(D61*100/49,2) -> 8.16
B62: KÉM | D62: =COUNTIF(F11:F52,"<29") -> 3 | F62: =ROUND(D62*100/49,2) -> 6.12
G64: Tân Bình, Ngày 6 tháng 7 năm 2015
B65: TRƯỞNG KHOA | D65: QUẢN LÝ HSSV | H65: GIÁO VIÊN CHỦ NHIỆM
H70: Nguyễn Thanh Vĩnh Phúc
E72: BAN GIÁM HIỆU
